BEGIN:VCALENDAR
VERSION:2.0
PRODID:-//Evangelische Kirchengemeinde Rondorf - ECPv6.15.20//NONSGML v1.0//EN
CALSCALE:GREGORIAN
METHOD:PUBLISH
X-ORIGINAL-URL:https://rondorf.de
X-WR-CALDESC:Veranstaltungen für Evangelische Kirchengemeinde Rondorf
REFRESH-INTERVAL;VALUE=DURATION:PT1H
X-Robots-Tag:noindex
X-PUBLISHED-TTL:PT1H
BEGIN:VTIMEZONE
TZID:Europe/Berlin
BEGIN:DAYLIGHT
TZOFFSETFROM:+0100
TZOFFSETTO:+0200
TZNAME:CEST
DTSTART:20220327T010000
END:DAYLIGHT
BEGIN:STANDARD
TZOFFSETFROM:+0200
TZOFFSETTO:+0100
TZNAME:CET
DTSTART:20221030T010000
END:STANDARD
BEGIN:DAYLIGHT
TZOFFSETFROM:+0100
TZOFFSETTO:+0200
TZNAME:CEST
DTSTART:20230326T010000
END:DAYLIGHT
BEGIN:STANDARD
TZOFFSETFROM:+0200
TZOFFSETTO:+0100
TZNAME:CET
DTSTART:20231029T010000
END:STANDARD
BEGIN:DAYLIGHT
TZOFFSETFROM:+0100
TZOFFSETTO:+0200
TZNAME:CEST
DTSTART:20240331T010000
END:DAYLIGHT
BEGIN:STANDARD
TZOFFSETFROM:+0200
TZOFFSETTO:+0100
TZNAME:CET
DTSTART:20241027T010000
END:STANDARD
END:VTIMEZONE
BEGIN:VEVENT
DTSTART;TZID=Europe/Berlin:20231214T180000
DTEND;TZID=Europe/Berlin:20231214T180000
DTSTAMP:20260422T120928
CREATED:20230808T201224Z
LAST-MODIFIED:20230808T201411Z
UID:9839-1702576800-1702576800@rondorf.de
SUMMARY:Weihnachtskonzert der Musikschule Papageno
DESCRIPTION:Weihnachtskonzert\nam Donnerstag\, den 14. Dezember 2023\, um 18.00 Uhr\n\n\nAufführende\nKammermusikgruppen\nSolisten der Musikschule Papageno\nRondorfer Kurrende \nGesamtleitung | Peter Stein \n\n\n\n  \nDer Eintritt ist frei. Um Spenden wird gebeten.\nDie Espressobar ist geöffnet.
URL:https://rondorf.de/veranstaltung/weihnachtskonzert-der-musikschule-papageno/
LOCATION:Emmanuelkirche\, Carl-Jatho-Straße 1\, Köln\, 50997\, Deutschland
CATEGORIES:Konzert,Musik
ORGANIZER;CN="Musikschule Papageno":MAILTO:stein@musikschulepapageno.de
END:VEVENT
END:VCALENDAR