BEGIN:VCALENDAR
VERSION:2.0
PRODID:-//Evangelische Kirchengemeinde Rondorf - ECPv6.15.20//NONSGML v1.0//EN
CALSCALE:GREGORIAN
METHOD:PUBLISH
X-ORIGINAL-URL:https://rondorf.de
X-WR-CALDESC:Veranstaltungen für Evangelische Kirchengemeinde Rondorf
REFRESH-INTERVAL;VALUE=DURATION:PT1H
X-Robots-Tag:noindex
X-PUBLISHED-TTL:PT1H
BEGIN:VTIMEZONE
TZID:Europe/Berlin
BEGIN:DAYLIGHT
TZOFFSETFROM:+0100
TZOFFSETTO:+0200
TZNAME:CEST
DTSTART:20250330T010000
END:DAYLIGHT
BEGIN:STANDARD
TZOFFSETFROM:+0200
TZOFFSETTO:+0100
TZNAME:CET
DTSTART:20251026T010000
END:STANDARD
BEGIN:DAYLIGHT
TZOFFSETFROM:+0100
TZOFFSETTO:+0200
TZNAME:CEST
DTSTART:20260329T010000
END:DAYLIGHT
BEGIN:STANDARD
TZOFFSETFROM:+0200
TZOFFSETTO:+0100
TZNAME:CET
DTSTART:20261025T010000
END:STANDARD
BEGIN:DAYLIGHT
TZOFFSETFROM:+0100
TZOFFSETTO:+0200
TZNAME:CEST
DTSTART:20270328T010000
END:DAYLIGHT
BEGIN:STANDARD
TZOFFSETFROM:+0200
TZOFFSETTO:+0100
TZNAME:CET
DTSTART:20271031T010000
END:STANDARD
END:VTIMEZONE
BEGIN:VEVENT
DTSTART;TZID=Europe/Berlin:20260218T153000
DTEND;TZID=Europe/Berlin:20260218T173000
DTSTAMP:20260424T172243
CREATED:20251031T230047Z
LAST-MODIFIED:20251208T153924Z
UID:6485-1771428600-1771435800@rondorf.de
SUMMARY:Frauenkreis
DESCRIPTION:Traditionelles Fischessen zu Aschermittwoch\n  \n\n\n\n  \nHaben wir Sie neugierig gemacht? Dann melden Sie sich gerne bei uns!
URL:https://rondorf.de/veranstaltung/frauenkreis-4/
LOCATION:Ev. Gemeindezentrum\, Carl-Jatho-Straße 1\, Köln\, 50997\, Deutschland
CATEGORIES:Dialog,Frauenkreis
END:VEVENT
END:VCALENDAR