BEGIN:VCALENDAR
VERSION:2.0
PRODID:-//Evangelische Kirchengemeinde Rondorf - ECPv6.15.20//NONSGML v1.0//EN
CALSCALE:GREGORIAN
METHOD:PUBLISH
X-ORIGINAL-URL:https://rondorf.de
X-WR-CALDESC:Veranstaltungen für Evangelische Kirchengemeinde Rondorf
REFRESH-INTERVAL;VALUE=DURATION:PT1H
X-Robots-Tag:noindex
X-PUBLISHED-TTL:PT1H
BEGIN:VTIMEZONE
TZID:Europe/Berlin
BEGIN:DAYLIGHT
TZOFFSETFROM:+0100
TZOFFSETTO:+0200
TZNAME:CEST
DTSTART:20240331T010000
END:DAYLIGHT
BEGIN:STANDARD
TZOFFSETFROM:+0200
TZOFFSETTO:+0100
TZNAME:CET
DTSTART:20241027T010000
END:STANDARD
BEGIN:DAYLIGHT
TZOFFSETFROM:+0100
TZOFFSETTO:+0200
TZNAME:CEST
DTSTART:20250330T010000
END:DAYLIGHT
BEGIN:STANDARD
TZOFFSETFROM:+0200
TZOFFSETTO:+0100
TZNAME:CET
DTSTART:20251026T010000
END:STANDARD
BEGIN:DAYLIGHT
TZOFFSETFROM:+0100
TZOFFSETTO:+0200
TZNAME:CEST
DTSTART:20260329T010000
END:DAYLIGHT
BEGIN:STANDARD
TZOFFSETFROM:+0200
TZOFFSETTO:+0100
TZNAME:CET
DTSTART:20261025T010000
END:STANDARD
END:VTIMEZONE
BEGIN:VEVENT
DTSTART;TZID=Europe/Berlin:20250629T110000
DTEND;TZID=Europe/Berlin:20250629T120000
DTSTAMP:20260425T210148
CREATED:20250319T230040Z
LAST-MODIFIED:20250318T194342Z
UID:9432-1751194800-1751198400@rondorf.de
SUMMARY:Kindergottesdienst  |  2. Sonntag nach Trinitatis
DESCRIPTION:Bibelstelle  Lukas 6\,1–11 \n  \nDie Heilung eines Mannes am Sabbat\nEs geschah aber an einem andern Sabbat\, dass er in die Synagoge ging und lehrte. Und da war ein Mensch\, dessen rechte Hand war verdorrt. Aber die Schriftgelehrten und Pharisäer lauerten darauf\, ob er auch am Sabbat heilen würde\, damit sie etwas fänden\, ihn zu verklagen. Er aber merkte ihre Gedanken und sprach zu dem Mann mit der verdorrten Hand: Steh auf und tritt hervor! Und er stand auf und trat vor. Da sprach Jesus zu ihnen: Ich frage euch: Ist’s erlaubt\, am Sabbat Gutes zu tun oder Böses\, Leben zu erhalten oder zu vernichten?\nUnd er sah sie alle ringsum an und sprach zu ihm: Strecke deine Hand aus! Und er tat’s; da wurde seine Hand wieder zurechtgebracht. Sie aber wurden ganz von Sinnen und beredeten sich miteinander\, was sie Jesus tun wollten. \n  \n 
URL:https://rondorf.de/veranstaltung/kindergottesdienst-2-sonntag-nach-trinitatis/
LOCATION:Ev. Gemeindezentrum\, Carl-Jatho-Straße 1\, Köln\, 50997\, Deutschland
CATEGORIES:Gottesdienst,Kindergottesdienst
END:VEVENT
END:VCALENDAR