BEGIN:VCALENDAR
VERSION:2.0
PRODID:-//Evangelische Kirchengemeinde Rondorf - ECPv6.15.20//NONSGML v1.0//EN
CALSCALE:GREGORIAN
METHOD:PUBLISH
X-WR-CALNAME:Evangelische Kirchengemeinde Rondorf
X-ORIGINAL-URL:https://rondorf.de
X-WR-CALDESC:Veranstaltungen für Evangelische Kirchengemeinde Rondorf
REFRESH-INTERVAL;VALUE=DURATION:PT1H
X-Robots-Tag:noindex
X-PUBLISHED-TTL:PT1H
BEGIN:VTIMEZONE
TZID:Europe/Berlin
BEGIN:DAYLIGHT
TZOFFSETFROM:+0100
TZOFFSETTO:+0200
TZNAME:CEST
DTSTART:20250330T010000
END:DAYLIGHT
BEGIN:STANDARD
TZOFFSETFROM:+0200
TZOFFSETTO:+0100
TZNAME:CET
DTSTART:20251026T010000
END:STANDARD
BEGIN:DAYLIGHT
TZOFFSETFROM:+0100
TZOFFSETTO:+0200
TZNAME:CEST
DTSTART:20260329T010000
END:DAYLIGHT
BEGIN:STANDARD
TZOFFSETFROM:+0200
TZOFFSETTO:+0100
TZNAME:CET
DTSTART:20261025T010000
END:STANDARD
BEGIN:DAYLIGHT
TZOFFSETFROM:+0100
TZOFFSETTO:+0200
TZNAME:CEST
DTSTART:20270328T010000
END:DAYLIGHT
BEGIN:STANDARD
TZOFFSETFROM:+0200
TZOFFSETTO:+0100
TZNAME:CET
DTSTART:20271031T010000
END:STANDARD
END:VTIMEZONE
BEGIN:VEVENT
DTSTART;TZID=Europe/Berlin:20260429T153000
DTEND;TZID=Europe/Berlin:20260429T173000
DTSTAMP:20260424T152214
CREATED:20251208T155911Z
LAST-MODIFIED:20251208T155911Z
UID:11551-1777476600-1777483800@rondorf.de
SUMMARY:Frauenkreis
DESCRIPTION:»Bildvortrag zu meinen Urlauben in Dänemark«\nReferent  | Klaus Hillenberg \n  \n\n\n\n\n\n\n\n\n\n\nHaben wir Sie neugierig gemacht? Dann kommen Sie gerne direkt vorbei!
URL:https://rondorf.de/veranstaltung/frauenkreis-2/
LOCATION:Ev. Gemeindezentrum\, Carl-Jatho-Straße 1\, Köln\, 50997\, Deutschland
CATEGORIES:Dialog,Frauenkreis
END:VEVENT
END:VCALENDAR