BEGIN:VCALENDAR
VERSION:2.0
PRODID:-//Evangelische Kirchengemeinde Rondorf - ECPv6.15.20//NONSGML v1.0//EN
CALSCALE:GREGORIAN
METHOD:PUBLISH
X-WR-CALNAME:Evangelische Kirchengemeinde Rondorf
X-ORIGINAL-URL:https://rondorf.de
X-WR-CALDESC:Veranstaltungen für Evangelische Kirchengemeinde Rondorf
REFRESH-INTERVAL;VALUE=DURATION:PT1H
X-Robots-Tag:noindex
X-PUBLISHED-TTL:PT1H
BEGIN:VTIMEZONE
TZID:Europe/Berlin
BEGIN:DAYLIGHT
TZOFFSETFROM:+0100
TZOFFSETTO:+0200
TZNAME:CEST
DTSTART:20250330T010000
END:DAYLIGHT
BEGIN:STANDARD
TZOFFSETFROM:+0200
TZOFFSETTO:+0100
TZNAME:CET
DTSTART:20251026T010000
END:STANDARD
BEGIN:DAYLIGHT
TZOFFSETFROM:+0100
TZOFFSETTO:+0200
TZNAME:CEST
DTSTART:20260329T010000
END:DAYLIGHT
BEGIN:STANDARD
TZOFFSETFROM:+0200
TZOFFSETTO:+0100
TZNAME:CET
DTSTART:20261025T010000
END:STANDARD
BEGIN:DAYLIGHT
TZOFFSETFROM:+0100
TZOFFSETTO:+0200
TZNAME:CEST
DTSTART:20270328T010000
END:DAYLIGHT
BEGIN:STANDARD
TZOFFSETFROM:+0200
TZOFFSETTO:+0100
TZNAME:CET
DTSTART:20271031T010000
END:STANDARD
END:VTIMEZONE
BEGIN:VEVENT
DTSTART;TZID=Europe/Berlin:20260308T103000
DTEND;TZID=Europe/Berlin:20260308T113000
DTSTAMP:20260422T164924
CREATED:20251031T230010Z
LAST-MODIFIED:20260301T190400Z
UID:2325-1772965800-1772969400@rondorf.de
SUMMARY:Gottesdienst  |  Oculi
DESCRIPTION:Pfarrer Winfried Landgrebe \nPredigttext Lukas 9\,57–62 \n  \nVom Ernst der Nachfolge\n[57] Und als sie auf dem Wege waren\, sprach einer zu ihm: Ich will dir folgen\, wohin du gehst. [58] Und Jesus sprach zu ihm: Die Füchse haben Gruben und die Vögel unter dem Himmel haben Nester; aber der Menschensohn hat nichts\, wo er sein Haupt hinlege.\n[59] Und er sprach zu einem andern: Folge mir nach! Der sprach aber: Herr\, erlaube mir\, dass ich zuvor hingehe und meinen Vater begrabe. [60] Aber Jesus sprach zu ihm: Lass die Toten ihre Toten begraben; du aber geh hin und verkündige das Reich Gottes!\n[61] Und ein andrer sprach: Herr\, ich will dir nachfolgen; aber erlaube mir zuvor\, dass ich Abschied nehme von denen\, die in meinem Haus sind. [62] Jesus aber sprach zu ihm: Wer seine Hand an den Pflug legt und sieht zurück\, der ist nicht geschickt für das Reich Gottes. \nLutherbibel\, revidierter Text 1984\, durchgesehene Ausgabe\, © 1999 Deutsche Bibelgesellschaft\, Stuttgart \n  \nDer Name des Sonntags zitiert den lateinischen  Eingangsspruch oder -psalm des jeweiligen Sonntags. \nPsalm 25\,15\nOculi mei semper ad Dominum quoniam ipse evellet de laqueo pedes meos – »Meine Augen sehen stets auf den Herrn; denn er wird meinen Fuß aus dem Netz ziehen.« \n 
URL:https://rondorf.de/veranstaltung/gottesdienst-oculi/
LOCATION:Erlöserkirche\, Sürther Straße 34\, Köln\, 50996\, Deutschland
CATEGORIES:Gemeindegottesdienst
END:VEVENT
BEGIN:VEVENT
DTSTART;TZID=Europe/Berlin:20260322T103000
DTEND;TZID=Europe/Berlin:20260322T113000
DTSTAMP:20260422T164924
CREATED:20251031T230026Z
LAST-MODIFIED:20260316T161240Z
UID:2453-1774175400-1774179000@rondorf.de
SUMMARY:Gottesdienst |  Judica
DESCRIPTION:Pfarrer Winfried Landgrebe \nPredigttext  Hebräer 13\,12–14 \nIm Anschluss an den Gottesdienst öffnet die Espressobar und lädt zum Gespräch ein. \n\nHebräer 13\n[12] Darum hat auch Jesus\, damit er das Volk heilige durch sein eigenes Blut\, gelitten draußen vor dem Tor. [13] So lasst uns nun zu ihm hinausgehen aus dem Lager und seine Schmach tragen. [14] Denn wir haben hier keine bleibende Stadt\, sondern die zukünftige suchen wir. \nLutherbibel\, revidierter Text 1984\, durchgesehene Ausgabe\, © 1999 Deutsche Bibelgesellschaft\, Stuttgart \n  \nDer Name des Sonntags zitiert den lateinischen  Eingangsspruch oder -psalm des jeweiligen Sonntags. \nPsalm 43\,1\nIudica me Deus et discerne causam meam de gente non sancta ab homine iniquo et doloso erue me – »Gott\, schaffe mir Recht und führe meine Sache wider das unheilige Volk und errette mich von den falschen und bösen Leuten!« \n 
URL:https://rondorf.de/veranstaltung/gottesdienst-judica/
LOCATION:Emmanuelkirche\, Carl-Jatho-Straße 1\, Köln\, 50997\, Deutschland
CATEGORIES:Gemeindegottesdienst
END:VEVENT
END:VCALENDAR