BEGIN:VCALENDAR
VERSION:2.0
PRODID:-//Evangelische Kirchengemeinde Rondorf - ECPv6.15.20//NONSGML v1.0//EN
CALSCALE:GREGORIAN
METHOD:PUBLISH
X-WR-CALNAME:Evangelische Kirchengemeinde Rondorf
X-ORIGINAL-URL:https://rondorf.de
X-WR-CALDESC:Veranstaltungen für Evangelische Kirchengemeinde Rondorf
REFRESH-INTERVAL;VALUE=DURATION:PT1H
X-Robots-Tag:noindex
X-PUBLISHED-TTL:PT1H
BEGIN:VTIMEZONE
TZID:Europe/Berlin
BEGIN:DAYLIGHT
TZOFFSETFROM:+0100
TZOFFSETTO:+0200
TZNAME:CEST
DTSTART:20250330T010000
END:DAYLIGHT
BEGIN:STANDARD
TZOFFSETFROM:+0200
TZOFFSETTO:+0100
TZNAME:CET
DTSTART:20251026T010000
END:STANDARD
BEGIN:DAYLIGHT
TZOFFSETFROM:+0100
TZOFFSETTO:+0200
TZNAME:CEST
DTSTART:20260329T010000
END:DAYLIGHT
BEGIN:STANDARD
TZOFFSETFROM:+0200
TZOFFSETTO:+0100
TZNAME:CET
DTSTART:20261025T010000
END:STANDARD
BEGIN:DAYLIGHT
TZOFFSETFROM:+0100
TZOFFSETTO:+0200
TZNAME:CEST
DTSTART:20270328T010000
END:DAYLIGHT
BEGIN:STANDARD
TZOFFSETFROM:+0200
TZOFFSETTO:+0100
TZNAME:CET
DTSTART:20271031T010000
END:STANDARD
END:VTIMEZONE
BEGIN:VEVENT
DTSTART;TZID=Europe/Berlin:20260103T180000
DTEND;TZID=Europe/Berlin:20260103T190000
DTSTAMP:20260423T181824
CREATED:20251115T230022Z
LAST-MODIFIED:20251208T161535Z
UID:11374-1767463200-1767466800@rondorf.de
SUMMARY:Abendgottesdienst  |  Sonnabend
DESCRIPTION:Wir feiern diesen ersten Gottesdienst als fusionierte Gemeinde in der Auferstehungskirche in Sürth. \nPfarrerin Simone Semmelmann-Werner  \n  \n 
URL:https://rondorf.de/veranstaltung/abendgottesdienst-sonnabend-3-1-26/
LOCATION:Auferstehungskirche\, Auferstehungskirchweg 7\, Köln\, 50999\, Germany
CATEGORIES:Gemeindegottesdienst,Gottesdienst
END:VEVENT
END:VCALENDAR