BEGIN:VCALENDAR
VERSION:2.0
PRODID:-//Evangelische Kirchengemeinde Rondorf - ECPv6.15.20//NONSGML v1.0//EN
CALSCALE:GREGORIAN
METHOD:PUBLISH
X-WR-CALNAME:Evangelische Kirchengemeinde Rondorf
X-ORIGINAL-URL:https://rondorf.de
X-WR-CALDESC:Veranstaltungen für Evangelische Kirchengemeinde Rondorf
REFRESH-INTERVAL;VALUE=DURATION:PT1H
X-Robots-Tag:noindex
X-PUBLISHED-TTL:PT1H
BEGIN:VTIMEZONE
TZID:Europe/Berlin
BEGIN:DAYLIGHT
TZOFFSETFROM:+0100
TZOFFSETTO:+0200
TZNAME:CEST
DTSTART:20240331T010000
END:DAYLIGHT
BEGIN:STANDARD
TZOFFSETFROM:+0200
TZOFFSETTO:+0100
TZNAME:CET
DTSTART:20241027T010000
END:STANDARD
BEGIN:DAYLIGHT
TZOFFSETFROM:+0100
TZOFFSETTO:+0200
TZNAME:CEST
DTSTART:20250330T010000
END:DAYLIGHT
BEGIN:STANDARD
TZOFFSETFROM:+0200
TZOFFSETTO:+0100
TZNAME:CET
DTSTART:20251026T010000
END:STANDARD
BEGIN:DAYLIGHT
TZOFFSETFROM:+0100
TZOFFSETTO:+0200
TZNAME:CEST
DTSTART:20260329T010000
END:DAYLIGHT
BEGIN:STANDARD
TZOFFSETFROM:+0200
TZOFFSETTO:+0100
TZNAME:CET
DTSTART:20261025T010000
END:STANDARD
END:VTIMEZONE
BEGIN:VEVENT
DTSTART;VALUE=DATE:20250713
DTEND;VALUE=DATE:20250731
DTSTAMP:20260426T025129
CREATED:20241130T230015Z
LAST-MODIFIED:20250324T162057Z
UID:5553-1752368400-1753837199@rondorf.de
SUMMARY:Sommerfreizeit für Jugendliche
DESCRIPTION:Wir wissen durchaus\, dass wir mit unserer Jugendfreizeit nicht im Trend unserer Zeit liegen. Und doch wollen wir nach den wunderschönen Erfahrungen der vergangenen Sommerschulferien auch im Jahr 2025 wieder eine Freizeit anbieten. Im kommenden Sommer fahren wir in das Jugendhaus in Splügen/Schweiz. \n\n\n\nDas Haus auf 1475 m Höhe mit eigenem Fußballplatz liegt am Rand eines der ältesten Passdörfer des Kantons Graubünden\, an der Grenze zu Italien und hat einen Charme\, der seinesgleichen sucht. \nNähere Informationen finden Sie/findet Ihr im Menü unter Wort – Freizeiten. \n\n\n\n 
URL:https://rondorf.de/veranstaltung/sommerfreizeit-fuer-jugendliche/
LOCATION:Jugendhaus Hüschera Lodge\, Steinenstr. 4\, Splügen\, Graubünden\, CH-7435\, Schweiz
CATEGORIES:Freizeit,Sommerfreizeit für Jugendliche
END:VEVENT
END:VCALENDAR